BEGIN:VCALENDAR
VERSION:2.0
PRODID:-//Söhne des Nordens - ECPv6.15.17.1//NONSGML v1.0//EN
CALSCALE:GREGORIAN
METHOD:PUBLISH
X-WR-CALNAME:Söhne des Nordens
X-ORIGINAL-URL:https://soehnedesnordens.de
X-WR-CALDESC:Veranstaltungen für Söhne des Nordens
REFRESH-INTERVAL;VALUE=DURATION:PT1H
X-Robots-Tag:noindex
X-PUBLISHED-TTL:PT1H
BEGIN:VTIMEZONE
TZID:Europe/Berlin
BEGIN:DAYLIGHT
TZOFFSETFROM:+0100
TZOFFSETTO:+0200
TZNAME:CEST
DTSTART:20240331T010000
END:DAYLIGHT
BEGIN:STANDARD
TZOFFSETFROM:+0200
TZOFFSETTO:+0100
TZNAME:CET
DTSTART:20241027T010000
END:STANDARD
BEGIN:DAYLIGHT
TZOFFSETFROM:+0100
TZOFFSETTO:+0200
TZNAME:CEST
DTSTART:20250330T010000
END:DAYLIGHT
BEGIN:STANDARD
TZOFFSETFROM:+0200
TZOFFSETTO:+0100
TZNAME:CET
DTSTART:20251026T010000
END:STANDARD
BEGIN:DAYLIGHT
TZOFFSETFROM:+0100
TZOFFSETTO:+0200
TZNAME:CEST
DTSTART:20260329T010000
END:DAYLIGHT
BEGIN:STANDARD
TZOFFSETFROM:+0200
TZOFFSETTO:+0100
TZNAME:CET
DTSTART:20261025T010000
END:STANDARD
END:VTIMEZONE
BEGIN:VEVENT
DTSTART;TZID=Europe/Berlin:20251203T200000
DTEND;TZID=Europe/Berlin:20251203T223000
DTSTAMP:20260423T185253
CREATED:20251022T101516Z
LAST-MODIFIED:20251022T102235Z
UID:15986-1764792000-1764801000@soehnedesnordens.de
SUMMARY:St. Ansgarikirche Hage - Weihnachten 2025
DESCRIPTION:Im Rahmen unserer (vor-)weihnachtlichen Konzertreihe 2025 laden wir Sie ein zum Konzertabend in der St. Ansgarikirche in Hage. \nBeginn des Konzertes: 20.00 Uhr  Einlass 19.00 Uhr \nBestuhltes Konzert – freie Platzwahl – keine Platzreservierung \nTickets für dieses Konzert erhalten bei G. H. Cassens in Hage\, Hauptstraße 34 und in der SKN-Geschäftsstelle (Kurier) in Norden\, Neuer Weg.  \nSie können Tickets für dieses Konzert auch hier direkt (siehe unten) in unserem Online-Ticketshop erwerben. \nBuchen Sie auf diesen Seiten Ihre Tickets direkt in unserem Online-Ticketshop. Als Zahlungsweisen in unserem Online-Ticketshop akzeptieren wir Paypal und Vorauskasse per Überweisung. Nach Geldeingang werden Ihnen die Tickets per Mail zugeschickt. Diese drucken Sie dann bitte aus oder bringen das Smartphone mit dem Ticket zum Konzert mit. \nAchten Sie beim Bestellvorgang bitte unbedingt darauf\, Ihre E-Mail-Adresse richtig einzugeben\, damit wir Ihnen Ihre Tickets problemlos zustellen können. 
URL:https://soehnedesnordens.de/event/15986/
LOCATION:Sankt Ansgarikirche\, Halbemonder Straße 6\, Hage\, Niedersachsen\, 26524\, Deutschland
ORGANIZER;CN="S%C3%B6hne des Nordens / Bengen-Billker-J%C3%BCchems-GbR":MAILTO:soehnedesnordens@online.de
END:VEVENT
END:VCALENDAR