BEGIN:VCALENDAR
VERSION:2.0
PRODID:-//Söhne des Nordens - ECPv6.15.17.1//NONSGML v1.0//EN
CALSCALE:GREGORIAN
METHOD:PUBLISH
X-WR-CALNAME:Söhne des Nordens
X-ORIGINAL-URL:https://soehnedesnordens.de
X-WR-CALDESC:Veranstaltungen für Söhne des Nordens
REFRESH-INTERVAL;VALUE=DURATION:PT1H
X-Robots-Tag:noindex
X-PUBLISHED-TTL:PT1H
BEGIN:VTIMEZONE
TZID:Europe/Berlin
BEGIN:DAYLIGHT
TZOFFSETFROM:+0100
TZOFFSETTO:+0200
TZNAME:CEST
DTSTART:20240331T010000
END:DAYLIGHT
BEGIN:STANDARD
TZOFFSETFROM:+0200
TZOFFSETTO:+0100
TZNAME:CET
DTSTART:20241027T010000
END:STANDARD
BEGIN:DAYLIGHT
TZOFFSETFROM:+0100
TZOFFSETTO:+0200
TZNAME:CEST
DTSTART:20250330T010000
END:DAYLIGHT
BEGIN:STANDARD
TZOFFSETFROM:+0200
TZOFFSETTO:+0100
TZNAME:CET
DTSTART:20251026T010000
END:STANDARD
BEGIN:DAYLIGHT
TZOFFSETFROM:+0100
TZOFFSETTO:+0200
TZNAME:CEST
DTSTART:20260329T010000
END:DAYLIGHT
BEGIN:STANDARD
TZOFFSETFROM:+0200
TZOFFSETTO:+0100
TZNAME:CET
DTSTART:20261025T010000
END:STANDARD
END:VTIMEZONE
BEGIN:VEVENT
DTSTART;TZID=Europe/Berlin:20251005T200000
DTEND;TZID=Europe/Berlin:20251005T223000
DTSTAMP:20260423T134022
CREATED:20250813T073330Z
LAST-MODIFIED:20250814T192105Z
UID:15767-1759694400-1759703400@soehnedesnordens.de
SUMMARY:Konzert im Dorfgemeinschaftshaus Middoge - Alte Pastorei
DESCRIPTION:✨ Konzert im Dorfgemeinschaftshaus Midoge \n Ein neuer Lieblingsort für uns – und hoffentlich auch für Euch! \n \n				\n			 \n			 \n				\n				\n				\n				\n				\n				\n			\n			 \n				\n				\n			 \n				\n				\n			 \n				\n				\n				\n				\n					\n				\n				\n				\n				\n				\n				\n				\n					Am Sonntag\, den 05.10.2025 spielen wir zum ersten Mal im Dorfgemeinschaftshaus Middoge – einer wunderbar restaurierten Scheune mit ganz besonderem Charme. Die Atmosphäre ist herzlich\, gemütlich und wie gemacht für unsere Musik \n🪑 Bestuhlt – freie Platzwahl \n🕖 Einlass: 19.00 Uhr \n🎶 Konzertbeginn: 20.00 Uhr \nFür das leibliche Wohl ist gesorgt: Vor dem Konzert und in der Pause gibt es Getränke\, liebevoll ausgeschenkt vom Team des Dorftreffs. \n🎫 Tickets bekommt Ihr hier: \n– Beim Vorstand des Dorftreffs Middoge e.V.\, Ilka Hinrichs 📞 Telefon: 0152 03049497 (Ab Montag\, den 18.08.2025) \n– Oder problemlos und sicher in unserem Online-Ticketshop (siehe unten) \nWir freuen uns auf einen stimmungsvollen Abend mit Euch in Middoge – in einer Location\, die wir garantiert nicht zum letzten Mal bespielen! \n\n  \n				\n			 \n			 \n				\n				\n			 \n				\n				\n				\n				\n				\n				\n				\n			\n			 \n				\n				\n				\n				\n				\n				\n					🎟️ Tickets bequem online buchen \nIhr könnt Eure Tickets für dieses Konzert auch direkt hier in unserem Online-Ticketshop (siehe unten) erwerben. \nIm Shop stehen Euch PayPal und Vorauskasse per Überweisung als Zahlungsmöglichkeiten zur Verfügung. \nNach Zahlungseingang erhaltet Ihr die Tickets per E-Mail. Bitte druckt sie aus und bringt sie zum Konzert mit. \n				\n			 \n			 \n				\n				\n			 \n				\n				\n				\n				\n				\n				\n				\n					\n📧 Wichtiger Hinweis zur Bestellung \nAchtet beim Bestellvorgang bitte unbedingt darauf\, Eure E-Mail-Adresse korrekt anzugeben\, damit wir Euch die Tickets problemlos zuschicken können.
URL:https://soehnedesnordens.de/event/konzert-im-saal-der-alten-pastorei-in-midoge/
LOCATION:DGH Midoge\, Häuptlingsstraße 17\, Midoge\, Niedersachsen\, 26434\, Germany
ORGANIZER;CN="S%C3%B6hne des Nordens / Bengen-Billker-J%C3%BCchems-GbR":MAILTO:soehnedesnordens@online.de
END:VEVENT
BEGIN:VEVENT
DTSTART;TZID=Europe/Berlin:20251014T200000
DTEND;TZID=Europe/Berlin:20251014T223000
DTSTAMP:20260423T134022
CREATED:20250813T085636Z
LAST-MODIFIED:20251010T114857Z
UID:15789-1760472000-1760481000@soehnedesnordens.de
SUMMARY:Konzertabend bei Kerzenschein in der Mennonitenkirche Norden
DESCRIPTION: ✨ Konzert in der Mennonitenkirche Norden \n Ein Ort mit Geschichte – und ein Stück Zuhause für uns (Ausverkauft) \n \n				\n			 \n			 \n				\n				\n				\n				\n				\n				\n			\n			 \n				\n				\n			 \n				\n				\n			 \n				\n				\n				\n				\n					\n				\n				\n				\n				\n				\n				\n				\n					Am Dienstag\, 14.10.2025 spielen wir erneut in der Mennonitenkirche Norden – einem Ort\, der uns seit vielen Jahren begleitet. Das altehrwürdige Gebäude mit seinem Kerzenschein und der besonderen Akustik schafft eine stimmungsvolle Atmosphäre\, wie sie besser nicht zu uns passen könnte. Die Konzerte dort sind für uns immer ein Highlight: Ein treues Publikum\, ein ausverkauftes Haus\, viel Freude auf und vor der Bühne – kurzum: ein Abend\, auf den wir uns jedes Jahr wieder riesig freuen. \n🪑 Bestuhlt – freie Platzwahl \n🕖 Einlass: 19.00 Uhr \n🎶 Konzertbeginn: 20.00 Uhr \n🎫 Tickets bekommt Ihr hier: \n– In SKN-Kundenzentrum 📍 Neuer Weg 33\, 26506 Norden \n– Oder problemlos und sicher in unserem Online-Ticketshop (siehe unten) \n\n  \n				\n			 \n			 \n				\n				\n			 \n				\n				\n				\n				\n				\n				\n				\n			\n			 \n				\n				\n				\n				\n				\n				\n					🎟️ Tickets bequem online buchen \nIhr könnt Eure Tickets für dieses Konzert auch direkt hier in unserem Online-Ticketshop (siehe unten) erwerben. \nIm Shop stehen Euch PayPal und Vorauskasse per Überweisung als Zahlungsmöglichkeiten zur Verfügung. \nNach Zahlungseingang erhaltet Ihr die Tickets per E-Mail. Bitte druckt sie aus und bringt sie zum Konzert mit. \n				\n			 \n			 \n				\n				\n			 \n				\n				\n				\n				\n				\n				\n				\n					\n📧 Wichtiger Hinweis zur Bestellung \nAchtet beim Bestellvorgang bitte unbedingt darauf\, Eure E-Mail-Adresse korrekt anzugeben\, damit wir Euch die Tickets problemlos zuschicken können.
URL:https://soehnedesnordens.de/event/konzertabend-bei-kerzenschein-in-der-mennonitenkirche-norden/
LOCATION:Mennonitenkirche Norden\, Am Markt 17 \, Norden\, Niedersachsen\, 26506\, Deutschland
ORGANIZER;CN="S%C3%B6hne des Nordens / Bengen-Billker-J%C3%BCchems-GbR":MAILTO:soehnedesnordens@online.de
END:VEVENT
END:VCALENDAR