BEGIN:VCALENDAR
VERSION:2.0
PRODID:-//Söhne des Nordens - ECPv6.15.17.1//NONSGML v1.0//EN
CALSCALE:GREGORIAN
METHOD:PUBLISH
X-WR-CALNAME:Söhne des Nordens
X-ORIGINAL-URL:https://soehnedesnordens.de
X-WR-CALDESC:Veranstaltungen für Söhne des Nordens
REFRESH-INTERVAL;VALUE=DURATION:PT1H
X-Robots-Tag:noindex
X-PUBLISHED-TTL:PT1H
BEGIN:VTIMEZONE
TZID:Europe/Berlin
BEGIN:DAYLIGHT
TZOFFSETFROM:+0100
TZOFFSETTO:+0200
TZNAME:CEST
DTSTART:20240331T010000
END:DAYLIGHT
BEGIN:STANDARD
TZOFFSETFROM:+0200
TZOFFSETTO:+0100
TZNAME:CET
DTSTART:20241027T010000
END:STANDARD
BEGIN:DAYLIGHT
TZOFFSETFROM:+0100
TZOFFSETTO:+0200
TZNAME:CEST
DTSTART:20250330T010000
END:DAYLIGHT
BEGIN:STANDARD
TZOFFSETFROM:+0200
TZOFFSETTO:+0100
TZNAME:CET
DTSTART:20251026T010000
END:STANDARD
BEGIN:DAYLIGHT
TZOFFSETFROM:+0100
TZOFFSETTO:+0200
TZNAME:CEST
DTSTART:20260329T010000
END:DAYLIGHT
BEGIN:STANDARD
TZOFFSETFROM:+0200
TZOFFSETTO:+0100
TZNAME:CET
DTSTART:20261025T010000
END:STANDARD
END:VTIMEZONE
BEGIN:VEVENT
DTSTART;TZID=Europe/Berlin:20251203T200000
DTEND;TZID=Europe/Berlin:20251203T223000
DTSTAMP:20260423T171359
CREATED:20251022T101516Z
LAST-MODIFIED:20251022T102235Z
UID:15986-1764792000-1764801000@soehnedesnordens.de
SUMMARY:St. Ansgarikirche Hage - Weihnachten 2025
DESCRIPTION:Im Rahmen unserer (vor-)weihnachtlichen Konzertreihe 2025 laden wir Sie ein zum Konzertabend in der St. Ansgarikirche in Hage. \nBeginn des Konzertes: 20.00 Uhr  Einlass 19.00 Uhr \nBestuhltes Konzert – freie Platzwahl – keine Platzreservierung \nTickets für dieses Konzert erhalten bei G. H. Cassens in Hage\, Hauptstraße 34 und in der SKN-Geschäftsstelle (Kurier) in Norden\, Neuer Weg.  \nSie können Tickets für dieses Konzert auch hier direkt (siehe unten) in unserem Online-Ticketshop erwerben. \nBuchen Sie auf diesen Seiten Ihre Tickets direkt in unserem Online-Ticketshop. Als Zahlungsweisen in unserem Online-Ticketshop akzeptieren wir Paypal und Vorauskasse per Überweisung. Nach Geldeingang werden Ihnen die Tickets per Mail zugeschickt. Diese drucken Sie dann bitte aus oder bringen das Smartphone mit dem Ticket zum Konzert mit. \nAchten Sie beim Bestellvorgang bitte unbedingt darauf\, Ihre E-Mail-Adresse richtig einzugeben\, damit wir Ihnen Ihre Tickets problemlos zustellen können. 
URL:https://soehnedesnordens.de/event/15986/
LOCATION:Sankt Ansgarikirche\, Halbemonder Straße 6\, Hage\, Niedersachsen\, 26524\, Deutschland
ORGANIZER;CN="S%C3%B6hne des Nordens / Bengen-Billker-J%C3%BCchems-GbR":MAILTO:soehnedesnordens@online.de
END:VEVENT
BEGIN:VEVENT
DTSTART;TZID=Europe/Berlin:20251204T200000
DTEND;TZID=Europe/Berlin:20251204T220000
DTSTAMP:20260423T171359
CREATED:20251107T120427Z
LAST-MODIFIED:20251107T121241Z
UID:16542-1764878400-1764885600@soehnedesnordens.de
SUMMARY:Lukaskirche Walle - Weihnachten 2025
DESCRIPTION:Im Rahmen unserer (vor-)weihnachtlichen Konzertreihe 2025 laden wir Sie ein zum Konzertabend in der ev.-luth. Lukaskirche in Walle  \nBeginn des Konzertes: 20.00 Uhr  Einlass 19.00 Uhr \nBestuhltes Konzert – freie Platzwahl – keine Platzreservierung \nSie können die Tickets für dieses Konzert hier direkt (siehe unten) in unserem Online-Ticketshop erwerben. \nAls Zahlungsweisen in unserem Online-Ticketshop akzeptieren wir Paypal und Vorauskasse per Überweisung. Nach Geldeingang werden Ihnen die Tickets per Mail zugeschickt. Diese drucken Sie dann bitte aus oder bringen das Smartphone mit dem Ticket zum Konzert mit. \nAchten Sie beim Bestellvorgang bitte unbedingt darauf\, Ihre E-Mail-Adresse richtig einzugeben\, damit wir Ihnen Ihre Tickets problemlos zustellen können. 
URL:https://soehnedesnordens.de/event/lukaskirche-walle-weihnachten-2025/
LOCATION:Konzert in der Lukaskirche in Walle\, Kölkeweg 16\, Aurich-Walle\, Niedersachsen\, 26607\, Deutschland
ORGANIZER;CN="S%C3%B6hne des Nordens / Bengen-Billker-J%C3%BCchems-GbR":MAILTO:soehnedesnordens@online.de
END:VEVENT
BEGIN:VEVENT
DTSTART;TZID=Europe/Berlin:20251208T200000
DTEND;TZID=Europe/Berlin:20251208T223000
DTSTAMP:20260423T171359
CREATED:20251022T101947Z
LAST-MODIFIED:20251022T102523Z
UID:15991-1765224000-1765233000@soehnedesnordens.de
SUMMARY:Ev.-ref. Kirche Loga - Weihnachten 2025
DESCRIPTION:Im Rahmen unserer (vor-)weihnachtlichen Konzertreihe 2024 laden wir Sie ein zum Konzertabend in der ev.-ref. Kirche in Loga\nBeginn des Konzertes: 20.00 Uhr  Einlass 19.00 Uhr \nBestuhltes Konzert – freie Platzwahl – keine Platzreservierung \nTickets für dieses Konzert erhalten bei der Buchhandlung Bücher Borde in Loga \nSie können Tickets für dieses Konzert auch hier direkt (siehe unten) in unserem Online-Ticketshop erwerben. \nBuchen Sie auf diesen Seiten Ihre Tickets direkt in unserem Online-Ticketshop. Als Zahlungsweisen in unserem Online-Ticketshop akzeptieren wir Paypal und Vorauskasse per Überweisung. Nach Geldeingang werden Ihnen die Tickets per Mail zugeschickt. Diese drucken Sie dann bitte aus oder bringen das Smartphone mit dem Ticket zum Konzert mit. \nAchten Sie beim Bestellvorgang bitte unbedingt darauf\, Ihre E-Mail-Adresse richtig einzugeben\, damit wir Ihnen Ihre Tickets problemlos zustellen können.  \n 
URL:https://soehnedesnordens.de/event/15991/
LOCATION:Ev.-ref. Kirche Loga\, Am Schlosspark 18\, Loga\, Niedersachsen\, 26789\, Deutschland
END:VEVENT
BEGIN:VEVENT
DTSTART;TZID=Europe/Berlin:20251210T200000
DTEND;TZID=Europe/Berlin:20251210T223000
DTSTAMP:20260423T171359
CREATED:20251022T111552Z
LAST-MODIFIED:20251202T064819Z
UID:15999-1765396800-1765405800@soehnedesnordens.de
SUMMARY:Ev.-luth. Kirche Steenfelde - Weihnachten 2025
DESCRIPTION:Diese Veranstaltung ist ausverkauft. \nIm Rahmen unserer (vor-)weihnachtlichen Konzertreihe 2025 laden wir Sie ein zum Konzertabend in der St. Maria- und Nikolauskirche in Steenfelde \nBeginn des Konzertes: 20.00 Uhr  Einlass 19.00 Uhr \nBestuhltes Konzert – freie Platzwahl – keine Platzreservierung \nTickets für dieses Konzert erhalten Sie beim Kirchenvorsteher Hermann Brink\, Tel. 04955/5588 \nSie können Tickets für dieses Konzert auch hier direkt (siehe unten) in unserem Online-Ticketshop erwerben. \nBuchen Sie auf diesen Seiten Ihre Tickets direkt in unserem Online-Ticketshop. Als Zahlungsweisen in unserem Online-Ticketshop akzeptieren wir Paypal und Vorauskasse per Überweisung. Nach Geldeingang werden Ihnen die Tickets per Mail zugeschickt. Diese drucken Sie dann bitte aus oder bringen das Smartphone mit dem Ticket zum Konzert mit. \nAchten Sie beim Bestellvorgang bitte unbedingt darauf\, Ihre E-Mail-Adresse richtig einzugeben\, damit wir Ihnen Ihre Tickets problemlos zustellen können. 
URL:https://soehnedesnordens.de/event/ev-luth-kirche-steenfelde-weihnachten-2025/
LOCATION:Ev.-luth. Kirche Steenfelde\, Krummspät\, Steenfelde\, Niedersachsen\, 26810\, Germany
ORGANIZER;CN="S%C3%B6hne des Nordens / Bengen-Billker-J%C3%BCchems-GbR":MAILTO:soehnedesnordens@online.de
END:VEVENT
BEGIN:VEVENT
DTSTART;TZID=Europe/Berlin:20251215T200000
DTEND;TZID=Europe/Berlin:20251215T223000
DTSTAMP:20260423T171359
CREATED:20251022T112530Z
LAST-MODIFIED:20251022T112703Z
UID:16011-1765828800-1765837800@soehnedesnordens.de
SUMMARY:St. Magnuskirche Esens - Weihnachten 2025
DESCRIPTION:Im Rahmen unserer (vor-)weihnachtlichen Konzertreihe 2025 laden wir Sie ein zum Konzertabend in der St. Magnus-Kirche in Esens \nBeginn des Konzertes: 20.00 Uhr  Einlass 19.00 Uhr \nBestuhltes Konzert – freie Platzwahl – keine Platzreservierung \nTickets für dieses Konzert erhalten Sie in der Buchhandlung Fleßner\, Marktstraße 10\, 26427 Esens \nSie können Tickets für dieses Konzert auch hier direkt (siehe unten) in unserem Online-Ticketshop erwerben. \nBuchen Sie auf diesen Seiten Ihre Tickets direkt in unserem Online-Ticketshop. Als Zahlungsweisen in unserem Online-Ticketshop akzeptieren wir Paypal und Vorauskasse per Überweisung. Nach Geldeingang werden Ihnen die Tickets per Mail zugeschickt. Diese drucken Sie dann bitte aus oder bringen das Smartphone mit dem Ticket zum Konzert mit. \nAchten Sie beim Bestellvorgang bitte unbedingt darauf\, Ihre E-Mail-Adresse richtig einzugeben\, damit wir Ihnen Ihre Tickets problemlos zustellen können. 
URL:https://soehnedesnordens.de/event/16011/
LOCATION:Konzert in der St. Magnuskirche in Esens\, Kirchplatz\, 26427 \, Niedersachsen\, 26427\, Deutschland
ORGANIZER;CN="S%C3%B6hne des Nordens / Bengen-Billker-J%C3%BCchems-GbR":MAILTO:soehnedesnordens@online.de
END:VEVENT
BEGIN:VEVENT
DTSTART;TZID=Europe/Berlin:20251217T200000
DTEND;TZID=Europe/Berlin:20251217T223000
DTSTAMP:20260423T171359
CREATED:20251022T113004Z
LAST-MODIFIED:20251022T113257Z
UID:16018-1766001600-1766010600@soehnedesnordens.de
SUMMARY:Ev.-luth. Kirche in Riepe - Weihnachten 2025
DESCRIPTION:Im Rahmen unserer (vor-)weihnachtlichen Konzertreihe 2025 laden wir Sie ein zum Eröffnungskonzert der diesjährigen Tour in der ev.-luth. Kirche in Riepe. \nBeginn des Konzertes: 20.00 Uhr  Einlass 19.00 Uhr \nTickets erhalten Sie in Martens Gartencenter in Riepe \nBestuhltes Konzert – freie Platzwahl – keine Platzreservierung \nSie können Tickets für dieses Konzert  hier direkt (siehe unten) in unserem Online-Ticketshop erwerben. \nBuchen Sie auf diesen Seiten Ihre Tickets direkt in unserem Online-Ticketshop. Als Zahlungsweisen in unserem Online-Ticketshop akzeptieren wir Paypal und Vorauskasse per Überweisung. Nach Geldeingang werden Ihnen die Tickets per Mail zugeschickt. Diese drucken Sie dann bitte aus und bringen Sie zum Konzert mit. \nAchten Sie beim Bestellvorgang bitte unbedingt darauf\, Ihre E-Mail-Adresse richtig einzugeben\, damit wir Ihnen Ihre Tickets problemlos zustellen können. 
URL:https://soehnedesnordens.de/event/ev-luth-kirche-in-riepe-weihnachten-2025/
LOCATION:Ev.-luth. Kirche in Riepe\, Friesenstraße 165\, Riepe\, Niedersachsen\, 26632\, Deutschland
ORGANIZER;CN="S%C3%B6hne des Nordens / Bengen-Billker-J%C3%BCchems-GbR":MAILTO:soehnedesnordens@online.de
END:VEVENT
BEGIN:VEVENT
DTSTART;TZID=Europe/Berlin:20251218T193000
DTEND;TZID=Europe/Berlin:20251218T220000
DTSTAMP:20260423T171359
CREATED:20251022T113540Z
LAST-MODIFIED:20251022T120202Z
UID:16024-1766086200-1766095200@soehnedesnordens.de
SUMMARY:Martin-Luther-Kirche Bagband - Weihnachten 2025
DESCRIPTION:Im Rahmen unserer (vor-)weihnachtlichen Konzertreihe 2025 laden wir Sie ein zum Konzertabend in der Martin-Luther-Kirche in Bagband. \nBeginn des Konzertes: 19.30 Uhr  Einlass 18.30 Uhr \nBestuhltes Konzert – freie Platzwahl – keine Platzreservierung \nTickets für dieses Konzert erhalten Sie ab sofort bei der Kirchvorsteherin Therese Krüssmann in Bagband. Sie erreichen Sie unter der Rufnummer 0173 6203551 \nSie können Tickets für dieses Konzert auch hier direkt (siehe unten) in unserem Online-Ticketshop erwerben. \nBuchen Sie auf diesen Seiten Ihre Tickets direkt in unserem Online-Ticketshop. Als Zahlungsweisen in unserem Online-Ticketshop akzeptieren wir Paypal und Vorauskasse per Überweisung. Nach Geldeingang werden Ihnen die Tickets per Mail zugeschickt. Diese drucken Sie dann bitte aus oder bringen das Smartphone mit dem Ticket zum Konzert mit. \nAchten Sie beim Bestellvorgang bitte unbedingt darauf\, Ihre E-Mail-Adresse richtig einzugeben\, damit wir Ihnen Ihre Tickets problemlos zustellen können. 
URL:https://soehnedesnordens.de/event/martin-luther-kirche-bagband-weihnachten-2025/
LOCATION:Martin Luther Kirche Bagband\, Krummhörn 15\, 26629 Großefehn/Bagband\, Niedersachsen\, Krummhörn 15\, Deutschland
ORGANIZER;CN="S%C3%B6hne des Nordens / Bengen-Billker-J%C3%BCchems-GbR":MAILTO:soehnedesnordens@online.de
END:VEVENT
BEGIN:VEVENT
DTSTART;TZID=Europe/Berlin:20251219T200000
DTEND;TZID=Europe/Berlin:20251219T223000
DTSTAMP:20260423T171359
CREATED:20251022T114221Z
LAST-MODIFIED:20251022T114309Z
UID:16031-1766174400-1766183400@soehnedesnordens.de
SUMMARY:Ev.-luth. Kirche Blomberg - Weihnachten 2025
DESCRIPTION:Im Rahmen unserer (vor-)weihnachtlichen Konzertreihe laden wir Sie ein zum Konzert in der ev.-luth. Kirche in Blomberg. \nBeginn des Konzertes: 20.00 Uhr  Einlass 19.00 Uhr \nBestuhltes Konzert – freie Platzwahl – keine Platzreservierung \nTickets für dieses Konzert erhalten Sie beim Markant-Markt Heeren\, Mühlenstraße 11 in 26487 Blomberg. \nSie können Tickets für dieses Konzert auch hier direkt (siehe unten) in unserem Online-Ticketshop erwerben. \nBuchen Sie auf diesen Seiten Ihre Tickets direkt in unserem Online-Ticketshop. Als Zahlungsweisen in unserem Online-Ticketshop akzeptieren wir Paypal und Vorauskasse per Überweisung. Nach Geldeingang werden Ihnen die Tickets per Mail zugeschickt. Diese drucken Sie dann bitte aus und bringen Sie zum Konzert mit. \nAchten Sie beim Bestellvorgang bitte unbedingt darauf\, Ihre E-Mail-Adresse richtig einzugeben\, damit wir Ihnen Ihre Tickets problemlos zustellen können. 
URL:https://soehnedesnordens.de/event/ev-luth-kirche-blomberg-weihnachten-2025/
LOCATION:Ev.-Luth. Kirche in Blomberg\, Kirchweg 1\, Blomberg\, Niedersachsen\, 26487\, Deutschland
ORGANIZER;CN="S%C3%B6hne des Nordens / Bengen-Billker-J%C3%BCchems-GbR":MAILTO:soehnedesnordens@online.de
END:VEVENT
BEGIN:VEVENT
DTSTART;TZID=Europe/Berlin:20251227T200000
DTEND;TZID=Europe/Berlin:20251227T223000
DTSTAMP:20260423T171359
CREATED:20251022T114549Z
LAST-MODIFIED:20251022T130407Z
UID:16036-1766865600-1766874600@soehnedesnordens.de
SUMMARY:St. Bartholomäuskirche Dornum - Weihnachten 2025
DESCRIPTION:Im Rahmen unserer (vor-)weihnachtlichen Konzertreihe 2025 laden wir Sie ein zum Konzert in der St. Bartholomäuskirche in Dornum. \nBeginn des Konzertes: 20.00 Uhr  Einlass 19.00 Uhr \nBestuhltes Konzert – freie Platzwahl – keine Platzreservierung \nTickets für dieses Konzert erhalten Sie in der SKN-Geschäftsstelle in Norden\, Neuer Weg 33 \nSie können Tickets für dieses Konzert auch hier direkt (siehe unten) in unserem Online-Ticketshop erwerben. \nBuchen Sie auf diesen Seiten Ihre Tickets direkt in unserem Online-Ticketshop. Als Zahlungsweisen in unserem Online-Ticketshop akzeptieren wir Paypal und Vorauskasse per Überweisung. Nach Geldeingang werden Ihnen die Tickets per Mail zugeschickt. Diese drucken Sie dann bitte aus und bringen Sie zum Konzert mit. \nAchten Sie beim Bestellvorgang bitte unbedingt darauf\, Ihre E-Mail-Adresse richtig einzugeben\, damit wir Ihnen Ihre Tickets problemlos zustellen können. 
URL:https://soehnedesnordens.de/event/st-bartholomaeuskirche-dornum-weihnachten-2025/
LOCATION:St. Bartholomäuskirche Dornum\, Kirchstraße 1\, Dornum\, Niedersachsen\, 26553\, Deutschland
ORGANIZER;CN="S%C3%B6hne des Nordens / Bengen-Billker-J%C3%BCchems-GbR":MAILTO:soehnedesnordens@online.de
END:VEVENT
BEGIN:VEVENT
DTSTART;TZID=Europe/Berlin:20251229T193000
DTEND;TZID=Europe/Berlin:20251229T223000
DTSTAMP:20260423T171359
CREATED:20251022T115313Z
LAST-MODIFIED:20251022T124729Z
UID:16045-1767036600-1767047400@soehnedesnordens.de
SUMMARY:Gemeindezentrum Andreasgemeinde Norden - Abschlusskonzert Weihnachten 2025
DESCRIPTION:Im Rahmen unserer (vor-)weihnachtlichen Konzertreihe 2025 laden wir Sie ein zum Abschlußkonzertabend im Gemeindezentrum der ev. luth. Andreasgemeinde in Norden. \nBeginn des Konzertes: 19.30 Uhr  Einlass 18.30 Uhr \nBestuhltes Konzert – freie Platzwahl – keine Platzreservierung \nTckets für dieses Konzert erhalten Sie Im Gemeindebüro der Andreas Kirchengemeinde\, Gottfried-Keller-Str. 3\, 26506 Norden\, Tel. 04931/936407 \nSie können Tickets für dieses Konzert auch hier direkt (siehe unten) in unserem Online-Ticketshop erwerben. \nBuchen Sie auf diesen Seiten Ihre Tickets direkt in unserem Online-Ticketshop. Als Zahlungsweisen in unserem Online-Ticketshop akzeptieren wir Paypal und Vorauskasse per Überweisung. Nach Geldeingang werden Ihnen die Tickets per Mail zugeschickt. Diese drucken Sie dann bitte aus oder bringen das Smartphone mit dem Ticket zum Konzert mit. \nAchten Sie beim Bestellvorgang bitte unbedingt darauf\, Ihre E-Mail-Adresse richtig einzugeben\, damit wir Ihnen Ihre Tickets problemlos zustellen können. 
URL:https://soehnedesnordens.de/event/gemeindezentrum-andreasgemeinde-norden-abschlusskonzert-weihnachten-2025/
LOCATION:Gemeindezentrum der Andreasgemeinde in Norden\, Gottfried-Keller-Str. 3\, Norden\, Niedersachsen\, 26506\, Deutschland
ORGANIZER;CN="S%C3%B6hne des Nordens / Bengen-Billker-J%C3%BCchems-GbR":MAILTO:soehnedesnordens@online.de
END:VEVENT
END:VCALENDAR