BEGIN:VCALENDAR
VERSION:2.0
PRODID:-//Söhne des Nordens - ECPv6.15.17.1//NONSGML v1.0//EN
CALSCALE:GREGORIAN
METHOD:PUBLISH
X-ORIGINAL-URL:https://soehnedesnordens.de
X-WR-CALDESC:Veranstaltungen für Söhne des Nordens
REFRESH-INTERVAL;VALUE=DURATION:PT1H
X-Robots-Tag:noindex
X-PUBLISHED-TTL:PT1H
BEGIN:VTIMEZONE
TZID:Europe/Berlin
BEGIN:DAYLIGHT
TZOFFSETFROM:+0100
TZOFFSETTO:+0200
TZNAME:CEST
DTSTART:20250330T010000
END:DAYLIGHT
BEGIN:STANDARD
TZOFFSETFROM:+0200
TZOFFSETTO:+0100
TZNAME:CET
DTSTART:20251026T010000
END:STANDARD
BEGIN:DAYLIGHT
TZOFFSETFROM:+0100
TZOFFSETTO:+0200
TZNAME:CEST
DTSTART:20260329T010000
END:DAYLIGHT
BEGIN:STANDARD
TZOFFSETFROM:+0200
TZOFFSETTO:+0100
TZNAME:CET
DTSTART:20261025T010000
END:STANDARD
BEGIN:DAYLIGHT
TZOFFSETFROM:+0100
TZOFFSETTO:+0200
TZNAME:CEST
DTSTART:20270328T010000
END:DAYLIGHT
BEGIN:STANDARD
TZOFFSETFROM:+0200
TZOFFSETTO:+0100
TZNAME:CET
DTSTART:20271031T010000
END:STANDARD
END:VTIMEZONE
BEGIN:VEVENT
DTSTART;TZID=Europe/Berlin:20260523T200000
DTEND;TZID=Europe/Berlin:20260523T223000
DTSTAMP:20260420T063810
CREATED:20260419T072800Z
LAST-MODIFIED:20260419T080752Z
UID:17528-1779566400-1779575400@soehnedesnordens.de
SUMMARY:Konzert in der Marienkirche Marienhafe- Kultursommer Marienhafe 2026
DESCRIPTION:Im Rahmen des Marienhafener Kultursommers 2026 laden wir ein zu einem Konzert in der Marienkirche Marienhafe \nBeginn des Konzertes: 20.00 Uhr  Einlass 19.00 Uhr \nBestuhltes Konzert – freie Platzwahl – keine Platzreservierung \nTickets für dieses Konzert erhalten Sie in der Buchhandlung „Die Bücherkiste“\, Rosenstraße in Marienhafe sowie im Servicecentrum des Ostfriesischen Kuriers in Norden\, Neuer Weg.  \nSie können Tickets für dieses Konzert auch hier direkt (siehe unten) in unserem Online-Ticketshop erwerben. \nBuchen Sie auf diesen Seiten Ihre Tickets direkt in unserem Online-Ticketshop. Als Zahlungsweisen in unserem Online-Ticketshop akzeptieren wir Paypal und Vorauskasse per Überweisung. Nach Geldeingang werden Ihnen die Tickets per Mail zugeschickt. Diese drucken Sie dann bitte aus und bringen Sie zum Konzert mit. \nAchten Sie beim Bestellvorgang bitte unbedingt darauf\, Ihre E-Mail-Adresse richtig einzugeben\, damit wir Ihnen Ihre Tickets problemlos zustellen können. 
URL:https://soehnedesnordens.de/event/konzert-in-der-marienkirche-marienhafe-kultursommer-marienhafe-2026/
LOCATION:Marienkirche Marienhafe\, Am Markt\, Marienhafe\, 26529 
ORGANIZER;CN="S%C3%B6hne des Nordens / Bengen-Billker-J%C3%BCchems-GbR":MAILTO:soehnedesnordens@online.de
END:VEVENT
END:VCALENDAR